BEGIN:VCALENDAR
VERSION:2.0
PRODID:-//Neurodiversity UK - ECPv6.15.18//NONSGML v1.0//EN
CALSCALE:GREGORIAN
METHOD:PUBLISH
X-WR-CALNAME:Neurodiversity UK
X-ORIGINAL-URL:https://neurodiversityuk.co.uk
X-WR-CALDESC:Events for Neurodiversity UK
REFRESH-INTERVAL;VALUE=DURATION:PT1H
X-Robots-Tag:noindex
X-PUBLISHED-TTL:PT1H
BEGIN:VTIMEZONE
TZID:Europe/London
BEGIN:DAYLIGHT
TZOFFSETFROM:+0000
TZOFFSETTO:+0100
TZNAME:BST
DTSTART:20230326T010000
END:DAYLIGHT
BEGIN:STANDARD
TZOFFSETFROM:+0100
TZOFFSETTO:+0000
TZNAME:GMT
DTSTART:20231029T010000
END:STANDARD
BEGIN:DAYLIGHT
TZOFFSETFROM:+0000
TZOFFSETTO:+0100
TZNAME:BST
DTSTART:20240331T010000
END:DAYLIGHT
BEGIN:STANDARD
TZOFFSETFROM:+0100
TZOFFSETTO:+0000
TZNAME:GMT
DTSTART:20241027T010000
END:STANDARD
BEGIN:DAYLIGHT
TZOFFSETFROM:+0000
TZOFFSETTO:+0100
TZNAME:BST
DTSTART:20250330T010000
END:DAYLIGHT
BEGIN:STANDARD
TZOFFSETFROM:+0100
TZOFFSETTO:+0000
TZNAME:GMT
DTSTART:20251026T010000
END:STANDARD
END:VTIMEZONE
BEGIN:VEVENT
DTSTART;TZID=Europe/London:20240818T130000
DTEND;TZID=Europe/London:20240818T180000
DTSTAMP:20260419T152329
CREATED:20240728T171839Z
LAST-MODIFIED:20240728T171839Z
UID:1302-1723986000-1724004000@neurodiversityuk.co.uk
SUMMARY:Neurodiversity Picnic at Preston Park
DESCRIPTION:Join us for a celebratory picnic as we launch Neurodiversity UK\, a new social enterprise based in Brighton! \nWe are thrilled to invite you to the launch of Neurodiversity UK with a special picnic at Preston Park! This event marks the beginning of our mission to unite and empower the neurodiverse community across the UK. Our goal is to create a supportive and connected community through initiatives like a community directory of neurodiverse events and by bringing together peer support groups from across the country. \nEvent Highlights: \n\nOpen to neurodiverse adults and families\nGazebo with snacks provided\nBring your own refreshments and food\nNo RSVP required—just turn up and join the fun!\n\nLocation & Accessibility: \nFor those traveling by public transport\, the number 5 bus and trains to Preston Park station are convenient options. If you’re driving\, parking areas are available at the north and south ends of the park\, accessible from Preston Drove or the junction between Preston Road and Preston Park Avenue. Cycling is also a great option\, with bike share hubs available in the park. For more details on parking and transport\, visit the Brighton & Hove Council’s website here. \nStay Connected: \nFor updates\, check out our events page or contact us via WhatsApp at 07947224023. Sign up for our mailing list to receive invitations and reminders for future events. For more information about the event and our social enterprise\, please visit our blog post. \nWe look forward to spending a fantastic day in the park with the neurodiverse community!
URL:https://neurodiversityuk.co.uk/event/neurodiversity-picnic-at-preston-park/
LOCATION:Preston Park\, Preston Road\, Brighton\, England\, United Kingdom
CATEGORIES:In Person Events,Neurodiversity UK Event
ATTACH;FMTTYPE=image/webp:https://neurodiversityuk.co.uk/wp-content/uploads/2024/07/Facebook-Event.webp
ORGANIZER;CN="Neurodiversity UK":MAILTO:info@neurodiversityuk.co.uk
END:VEVENT
END:VCALENDAR