BEGIN:VCALENDAR
VERSION:2.0
PRODID:-//Neurodiversity UK - ECPv6.15.18//NONSGML v1.0//EN
CALSCALE:GREGORIAN
METHOD:PUBLISH
X-ORIGINAL-URL:https://neurodiversityuk.co.uk
X-WR-CALDESC:Events for Neurodiversity UK
REFRESH-INTERVAL;VALUE=DURATION:PT1H
X-Robots-Tag:noindex
X-PUBLISHED-TTL:PT1H
BEGIN:VTIMEZONE
TZID:Europe/London
BEGIN:DAYLIGHT
TZOFFSETFROM:+0000
TZOFFSETTO:+0100
TZNAME:BST
DTSTART:20250330T010000
END:DAYLIGHT
BEGIN:STANDARD
TZOFFSETFROM:+0100
TZOFFSETTO:+0000
TZNAME:GMT
DTSTART:20251026T010000
END:STANDARD
BEGIN:DAYLIGHT
TZOFFSETFROM:+0000
TZOFFSETTO:+0100
TZNAME:BST
DTSTART:20260329T010000
END:DAYLIGHT
BEGIN:STANDARD
TZOFFSETFROM:+0100
TZOFFSETTO:+0000
TZNAME:GMT
DTSTART:20261025T010000
END:STANDARD
BEGIN:DAYLIGHT
TZOFFSETFROM:+0000
TZOFFSETTO:+0100
TZNAME:BST
DTSTART:20270328T010000
END:DAYLIGHT
BEGIN:STANDARD
TZOFFSETFROM:+0100
TZOFFSETTO:+0000
TZNAME:GMT
DTSTART:20271031T010000
END:STANDARD
END:VTIMEZONE
BEGIN:VEVENT
DTSTART;TZID=Europe/London:20260301T150000
DTEND;TZID=Europe/London:20260301T170000
DTSTAMP:20260419T172112
CREATED:20251119T124852Z
LAST-MODIFIED:20251119T124852Z
UID:10000124-1772377200-1772384400@neurodiversityuk.co.uk
SUMMARY:Relaxed Concert - Imagine Series: Come and Create
DESCRIPTION:Sunday 1 March 2026\, 3.00pm \nTickets: £5 \nWigmore Hall\,\n36 Wigmore Street\nLondon\nW1U 2BP \nJoin us for a relaxed\, multi-sensory concert experience. This concert is part of our Imagine Series: a series of afternoon concerts at Wigmore Hall designed for a neurodiverse audience. Wigmore Hall’s Come and Create band\, a music group for autistic young people aged 15+\, have co-produced the concert and welcome you into the space. \nThere will be opportunities to be involved with live improvised music if you would like to – together with members of the Come and Create band and the performers – but just listening is fine too. \nAudience members are invited to freely engage with the music\, including making sound and moving around the space as they want or need to. We want to acknowledge\, showcase\, and celebrate that the audience are always co-creators of a concert experience.
URL:https://neurodiversityuk.co.uk/event/relaxed-concert-imagine-series-come-and-create/
LOCATION:Wigmore Hall\, 36 Wigmore Street\, London\, W1U 2BP\, United Kingdom
END:VEVENT
END:VCALENDAR