BEGIN:VCALENDAR
VERSION:2.0
PRODID:-//Neurodiversity UK - ECPv6.15.18//NONSGML v1.0//EN
CALSCALE:GREGORIAN
METHOD:PUBLISH
X-WR-CALNAME:Neurodiversity UK
X-ORIGINAL-URL:https://neurodiversityuk.co.uk
X-WR-CALDESC:Events for Neurodiversity UK
REFRESH-INTERVAL;VALUE=DURATION:PT1H
X-Robots-Tag:noindex
X-PUBLISHED-TTL:PT1H
BEGIN:VTIMEZONE
TZID:Europe/London
BEGIN:DAYLIGHT
TZOFFSETFROM:+0000
TZOFFSETTO:+0100
TZNAME:BST
DTSTART:20240331T010000
END:DAYLIGHT
BEGIN:STANDARD
TZOFFSETFROM:+0100
TZOFFSETTO:+0000
TZNAME:GMT
DTSTART:20241027T010000
END:STANDARD
BEGIN:DAYLIGHT
TZOFFSETFROM:+0000
TZOFFSETTO:+0100
TZNAME:BST
DTSTART:20250330T010000
END:DAYLIGHT
BEGIN:STANDARD
TZOFFSETFROM:+0100
TZOFFSETTO:+0000
TZNAME:GMT
DTSTART:20251026T010000
END:STANDARD
BEGIN:DAYLIGHT
TZOFFSETFROM:+0000
TZOFFSETTO:+0100
TZNAME:BST
DTSTART:20260329T010000
END:DAYLIGHT
BEGIN:STANDARD
TZOFFSETFROM:+0100
TZOFFSETTO:+0000
TZNAME:GMT
DTSTART:20261025T010000
END:STANDARD
BEGIN:DAYLIGHT
TZOFFSETFROM:+0000
TZOFFSETTO:+0100
TZNAME:BST
DTSTART:20270328T010000
END:DAYLIGHT
BEGIN:STANDARD
TZOFFSETFROM:+0100
TZOFFSETTO:+0000
TZNAME:GMT
DTSTART:20271031T010000
END:STANDARD
END:VTIMEZONE
BEGIN:VEVENT
DTSTART;TZID=Europe/London:20251116T150000
DTEND;TZID=Europe/London:20251116T170000
DTSTAMP:20260420T070038
CREATED:20251022T102740Z
LAST-MODIFIED:20251022T102740Z
UID:10000123-1763305200-1763312400@neurodiversityuk.co.uk
SUMMARY:Imagine Series
DESCRIPTION:Join us for a relaxed\, multi-sensory concert experience. This concert is part of our Imagine Series: a series of afternoon concerts at Wigmore Hall designed for a neurodiverse audience. \nRihab Azar is a London-based\, Syrian/British oud player. Performing internationally since 2008\, in 2014 she became the first woman oudist to perform accompanied by the Syrian National Orchestra for Arabic Music and in 2016 Arts Council England recognised her as a musician of ‘Exceptional Promise’. \nRihab will perform music without sudden or loud volume in this informal concert. She’ll introduce each piece and share some stories and facts about the music along the way. \nLow stimulus performances may benefit some neurodivergent people and all those who prefer a quieter environment. \n  \nTickets: £5.00
URL:https://neurodiversityuk.co.uk/event/imagine-series/
LOCATION:Wigmore Hall\, 36 Wigmore Street\, London\, W1U 2BP\, United Kingdom
CATEGORIES:Community Event,In Person Events,Social
END:VEVENT
BEGIN:VEVENT
DTSTART;TZID=Europe/London:20251119T190000
DTEND;TZID=Europe/London:20251119T203000
DTSTAMP:20260420T070038
CREATED:20250729T144812Z
LAST-MODIFIED:20251031T202538Z
UID:10000118-1763578800-1763584200@neurodiversityuk.co.uk
SUMMARY:ADHD Access To Work Support Group
DESCRIPTION:Feeling Overwhelmed by Access to Work?\nNavigating the Access to Work scheme can be daunting—but you’re not alone! Our support group provides valuable advice\, peer support\, and information on securing funding for ADHD coaching\, support workers\, and equipment. \nMonthly Meetings\nOur group meets every 3rd Wednesday of the month\, 7:00 PM to 8:30 PM via Zoom. This is a safe space to connect with others\, swap tips\, and gain insights from a community that understands your experience. \nWhat We Offer\nWhether you need help with applying for Access to Work\, reclaiming costs\, or managing the scheme’s administration\, we’re here to support you every step of the way. \nStay Connected\nFor more details\, join our Facebook group for peer discussions\, or contact us at info@neurodiversityuk.co.uk. \n  \n 
URL:https://neurodiversityuk.co.uk/event/adhd-access-to-work-support-group-5/
CATEGORIES:Access To Work Support Group,Neurodiversity UK Event,Online Events
ATTACH;FMTTYPE=image/png:https://neurodiversityuk.co.uk/wp-content/uploads/2025/07/NEW-Access-to-work-banner.png
ORGANIZER;CN="Neurodiversity UK":MAILTO:info@neurodiversityuk.co.uk
LOCATION:https://neurodiversityuk.co.uk/event/adhd-access-to-work-support-group-5/
END:VEVENT
BEGIN:VEVENT
DTSTART;TZID=Europe/London:20251121T180000
DTEND;TZID=Europe/London:20251121T210000
DTSTAMP:20260420T070038
CREATED:20251022T092423Z
LAST-MODIFIED:20251022T092423Z
UID:10000122-1763748000-1763758800@neurodiversityuk.co.uk
SUMMARY:Unmasked Poetry Open Mic
DESCRIPTION:✨Neuroinclusive Environment:✨\n\n• No flashing or bright lights\n• Stimming welcome\n• Clear breaks &\n• Quiet space\n• Discreet fidgets\n• Ok to leave between\navailable performances\n\nTickets: £5 General | £3 Performer
URL:https://neurodiversityuk.co.uk/event/unmasked-poetry-open-mic/
LOCATION:The Lady Ottoline\, 11a Northington Street\, London\, WC1 2JF\, United Kingdom
CATEGORIES:Community Event,In Person Events,Social
ATTACH;FMTTYPE=image/jpeg:https://neurodiversityuk.co.uk/wp-content/uploads/2025/10/IMG_4301.jpeg
END:VEVENT
BEGIN:VEVENT
DTSTART;TZID=Europe/London:20251217T190000
DTEND;TZID=Europe/London:20251217T203000
DTSTAMP:20260420T070038
CREATED:20250729T144934Z
LAST-MODIFIED:20251031T202625Z
UID:10000119-1765998000-1766003400@neurodiversityuk.co.uk
SUMMARY:ADHD Access To Work Support Group
DESCRIPTION:Feeling Overwhelmed by Access to Work?\nNavigating the Access to Work scheme can be daunting—but you’re not alone! Our support group provides valuable advice\, peer support\, and information on securing funding for ADHD coaching\, support workers\, and equipment. \nMonthly Meetings\nOur group meets every 3rd Wednesday of the month\, 7:00 PM to 8:30 PM via Zoom. This is a safe space to connect with others\, swap tips\, and gain insights from a community that understands your experience. \nWhat We Offer\nWhether you need help with applying for Access to Work\, reclaiming costs\, or managing the scheme’s administration\, we’re here to support you every step of the way. \nStay Connected\nFor more details\, join our Facebook group for peer discussions\, or contact us at info@neurodiversityuk.co.uk. \n  \n 
URL:https://neurodiversityuk.co.uk/event/adhd-access-to-work-support-group-6/
CATEGORIES:Access To Work Support Group,Neurodiversity UK Event,Online Events
ATTACH;FMTTYPE=image/png:https://neurodiversityuk.co.uk/wp-content/uploads/2025/07/NEW-Access-to-work-banner.png
ORGANIZER;CN="Neurodiversity UK":MAILTO:info@neurodiversityuk.co.uk
LOCATION:https://neurodiversityuk.co.uk/event/adhd-access-to-work-support-group-6/
END:VEVENT
BEGIN:VEVENT
DTSTART;TZID=Europe/London:20260121T190000
DTEND;TZID=Europe/London:20260121T203000
DTSTAMP:20260420T070038
CREATED:20260106T164938Z
LAST-MODIFIED:20260106T164938Z
UID:10000125-1769022000-1769027400@neurodiversityuk.co.uk
SUMMARY:ADHD Access To Work Support Group
DESCRIPTION:Feeling Overwhelmed by Access to Work?\nNavigating the Access to Work scheme can be daunting—but you’re not alone! Our support group provides valuable advice\, peer support\, and information on securing funding for ADHD coaching\, support workers\, and equipment. \nMonthly Meetings\nOur group meets every 3rd Wednesday of the month\, 7:00 PM to 8:30 PM via Zoom. This is a safe space to connect with others\, swap tips\, and gain insights from a community that understands your experience. \nWhat We Offer\nWhether you need help with applying for Access to Work\, reclaiming costs\, or managing the scheme’s administration\, we’re here to support you every step of the way. \nStay Connected\nFor more details\, join our Facebook group for peer discussions\, or contact us at info@neurodiversityuk.co.uk. \n  \n 
URL:https://neurodiversityuk.co.uk/event/adhd-access-to-work-support-group-7/
CATEGORIES:Access To Work Support Group,Neurodiversity UK Event,Online Events
ATTACH;FMTTYPE=image/png:https://neurodiversityuk.co.uk/wp-content/uploads/2025/07/NEW-Access-to-work-banner.png
ORGANIZER;CN="Neurodiversity UK":MAILTO:info@neurodiversityuk.co.uk
LOCATION:https://neurodiversityuk.co.uk/event/adhd-access-to-work-support-group-7/
END:VEVENT
BEGIN:VEVENT
DTSTART;TZID=Europe/London:20260207T133000
DTEND;TZID=Europe/London:20260207T173000
DTSTAMP:20260420T070038
CREATED:20260128T125002Z
LAST-MODIFIED:20260128T125002Z
UID:10000131-1770471000-1770485400@neurodiversityuk.co.uk
SUMMARY:Daisy Neuroinclusive Speed Friending in Angel
DESCRIPTION:Daisy Connections speed friending is a  neuroinclusive speed friending event\, bringing back connection in real life\n\nOur events are professionally hosted by theatre-maker Simone French\, co-artistic director of interactive theatre company TomYumSim. With experience creating immersive\, participatory performances across the UK and Australia\, Simone knows how to make people feel comfortable and keep the energy flowing without any of the cringe. \n\n\n\nAlternative to Dating & Friendship Apps\n\n✔️No swiping.\n✔️No ghosting.\n✔️No superficial judgments.\n✔️No treating people like options on a menu.\n✔️No algorithm deciding your worth.\n✔️Connection like it used to be.\n✔️Real people\, real conversations\, and real possibility.\n\nWhat to Expect\nA Daisy event is relaxed\, welcoming\, and thoughtfully structured so you can focus on genuine connection. \n\nYou’ll be welcomed into small\, vibe-matched groups\nTheatre-maker Simone French guides the evening with warmth and zero cringe\nStructured format means no awkward mingling or forced ice-breaker\nOptional conversation cards (Standard\, Neurodivergent\, or Sweary editions)\nOptional mingling during breaks\nExpress interest in people you connect with – only mutual matches are shared\nStay for drinks after or head home – your choice\n\nWEBSITE: https://daisyconnections.co.uk/\nTICKETS: https://DaisyFeb7.eventbrite.com
URL:https://neurodiversityuk.co.uk/event/daisy-neuroinclusive-speed-friending-in-angel/
LOCATION:The Chapel Bar\, 29 Penton Street\, Londond\, N1 9PX\, United Kingdom
CATEGORIES:Community Event,In Person Events,Social
ATTACH;FMTTYPE=image/webp:https://neurodiversityuk.co.uk/wp-content/uploads/2026/01/3-Daisy-7-Feb-Instagram-Post-Instagram-Post-45-1.webp
END:VEVENT
BEGIN:VEVENT
DTSTART;TZID=Europe/London:20260218T190000
DTEND;TZID=Europe/London:20260218T203000
DTSTAMP:20260420T070038
CREATED:20260106T165227Z
LAST-MODIFIED:20260106T165307Z
UID:10000126-1771441200-1771446600@neurodiversityuk.co.uk
SUMMARY:ADHD Access To Work Support Group
DESCRIPTION:Feeling Overwhelmed by Access to Work?\nNavigating the Access to Work scheme can be daunting—but you’re not alone! Our support group provides valuable advice\, peer support\, and information on securing funding for ADHD coaching\, support workers\, and equipment. \nMonthly Meetings\nOur group meets every 3rd Wednesday of the month\, 7:00 PM to 8:30 PM via Zoom. This is a safe space to connect with others\, swap tips\, and gain insights from a community that understands your experience. \nWhat We Offer\nWhether you need help with applying for Access to Work\, reclaiming costs\, or managing the scheme’s administration\, we’re here to support you every step of the way. \nStay Connected\nFor more details\, join our Facebook group for peer discussions\, or contact us at info@neurodiversityuk.co.uk. \n  \n 
URL:https://neurodiversityuk.co.uk/event/adhd-access-to-work-support-group-8/
CATEGORIES:Access To Work Support Group,Neurodiversity UK Event,Online Events
ATTACH;FMTTYPE=image/png:https://neurodiversityuk.co.uk/wp-content/uploads/2025/07/NEW-Access-to-work-banner.png
ORGANIZER;CN="Neurodiversity UK":MAILTO:info@neurodiversityuk.co.uk
LOCATION:https://neurodiversityuk.co.uk/event/adhd-access-to-work-support-group-8/
END:VEVENT
BEGIN:VEVENT
DTSTART;TZID=Europe/London:20260301T150000
DTEND;TZID=Europe/London:20260301T170000
DTSTAMP:20260420T070038
CREATED:20251119T124852Z
LAST-MODIFIED:20251119T124852Z
UID:10000124-1772377200-1772384400@neurodiversityuk.co.uk
SUMMARY:Relaxed Concert - Imagine Series: Come and Create
DESCRIPTION:Sunday 1 March 2026\, 3.00pm \nTickets: £5 \nWigmore Hall\,\n36 Wigmore Street\nLondon\nW1U 2BP \nJoin us for a relaxed\, multi-sensory concert experience. This concert is part of our Imagine Series: a series of afternoon concerts at Wigmore Hall designed for a neurodiverse audience. Wigmore Hall’s Come and Create band\, a music group for autistic young people aged 15+\, have co-produced the concert and welcome you into the space. \nThere will be opportunities to be involved with live improvised music if you would like to – together with members of the Come and Create band and the performers – but just listening is fine too. \nAudience members are invited to freely engage with the music\, including making sound and moving around the space as they want or need to. We want to acknowledge\, showcase\, and celebrate that the audience are always co-creators of a concert experience.
URL:https://neurodiversityuk.co.uk/event/relaxed-concert-imagine-series-come-and-create/
LOCATION:Wigmore Hall\, 36 Wigmore Street\, London\, W1U 2BP\, United Kingdom
END:VEVENT
BEGIN:VEVENT
DTSTART;TZID=Europe/London:20260318T190000
DTEND;TZID=Europe/London:20260318T203000
DTSTAMP:20260420T070038
CREATED:20260106T165930Z
LAST-MODIFIED:20260317T141729Z
UID:10000128-1773860400-1773865800@neurodiversityuk.co.uk
SUMMARY:ADHD & Autism Access To Work Support Group
DESCRIPTION:Feeling Overwhelmed by Access to Work?\nNavigating the Access to Work scheme can be daunting—but you’re not alone! Our support group provides valuable advice\, peer support\, and information on securing funding for ADHD coaching\, support workers\, and equipment. \nMonthly Meetings\nOur group meets every 3rd Wednesday of the month\, 7:00 PM to 8:30 PM via Zoom. This is a safe space to connect with others\, swap tips\, and gain insights from a community that understands your experience. \nWhat We Offer\nWhether you need help with applying for Access to Work\, reclaiming costs\, or managing the scheme’s administration\, we’re here to support you every step of the way. \nStay Connected\nFor more details\, join our  Facebook group for peer discussions\, or contact us at info@neurodiversityuk.co.uk. \n  \n 
URL:https://neurodiversityuk.co.uk/event/adhd-access-to-work-support-group-10/
CATEGORIES:Access To Work Support Group,Neurodiversity UK Event,Online Events
ATTACH;FMTTYPE=image/png:https://neurodiversityuk.co.uk/wp-content/uploads/2025/07/NEW-Access-to-work-banner.png
ORGANIZER;CN="Neurodiversity UK":MAILTO:info@neurodiversityuk.co.uk
END:VEVENT
BEGIN:VEVENT
DTSTART;TZID=Europe/London:20260415T190000
DTEND;TZID=Europe/London:20260415T203000
DTSTAMP:20260420T070038
CREATED:20260106T165615Z
LAST-MODIFIED:20260311T193649Z
UID:10000127-1776279600-1776285000@neurodiversityuk.co.uk
SUMMARY:ADHD Access To Work Support Group
DESCRIPTION:Feeling Overwhelmed by Access to Work?\nNavigating the Access to Work scheme can be daunting—but you’re not alone! Our support group provides valuable advice\, peer support\, and information on securing funding for ADHD coaching\, support workers\, and equipment. \nMonthly Meetings\nOur group meets every 3rd Wednesday of the month\, 7:00 PM to 8:30 PM via Zoom. This is a safe space to connect with others\, swap tips\, and gain insights from a community that understands your experience. \nWhat We Offer\nWhether you need help with applying for Access to Work\, reclaiming costs\, or managing the scheme’s administration\, we’re here to support you every step of the way. \nStay Connected\nFor more details\, join our Facebook group for peer discussions\, or contact us at info@neurodiversityuk.co.uk. \n  \n 
URL:https://neurodiversityuk.co.uk/event/adhd-access-to-work-support-group-9/
CATEGORIES:Access To Work Support Group,Neurodiversity UK Event,Online Events
ATTACH;FMTTYPE=image/png:https://neurodiversityuk.co.uk/wp-content/uploads/2025/07/NEW-Access-to-work-banner.png
ORGANIZER;CN="Neurodiversity UK":MAILTO:info@neurodiversityuk.co.uk
LOCATION:https://neurodiversityuk.co.uk/event/adhd-access-to-work-support-group-9/
END:VEVENT
BEGIN:VEVENT
DTSTART;TZID=Europe/London:20260520T190000
DTEND;TZID=Europe/London:20260520T203000
DTSTAMP:20260420T070038
CREATED:20260106T170054Z
LAST-MODIFIED:20260311T193656Z
UID:10000129-1779303600-1779309000@neurodiversityuk.co.uk
SUMMARY:ADHD Access To Work Support Group
DESCRIPTION:Feeling Overwhelmed by Access to Work?\nNavigating the Access to Work scheme can be daunting—but you’re not alone! Our support group provides valuable advice\, peer support\, and information on securing funding for ADHD coaching\, support workers\, and equipment. \nMonthly Meetings\nOur group meets every 3rd Wednesday of the month\, 7:00 PM to 8:30 PM via Zoom. This is a safe space to connect with others\, swap tips\, and gain insights from a community that understands your experience. \nWhat We Offer\nWhether you need help with applying for Access to Work\, reclaiming costs\, or managing the scheme’s administration\, we’re here to support you every step of the way. \nStay Connected\nFor more details\, join our Facebook group for peer discussions\, or contact us at info@neurodiversityuk.co.uk. \n  \n 
URL:https://neurodiversityuk.co.uk/event/adhd-access-to-work-support-group-11/
CATEGORIES:Access To Work Support Group,Neurodiversity UK Event,Online Events
ATTACH;FMTTYPE=image/png:https://neurodiversityuk.co.uk/wp-content/uploads/2025/07/NEW-Access-to-work-banner.png
ORGANIZER;CN="Neurodiversity UK":MAILTO:info@neurodiversityuk.co.uk
LOCATION:https://neurodiversityuk.co.uk/event/adhd-access-to-work-support-group-11/
END:VEVENT
BEGIN:VEVENT
DTSTART;TZID=Europe/London:20260617T190000
DTEND;TZID=Europe/London:20260617T203000
DTSTAMP:20260420T070038
CREATED:20260106T170217Z
LAST-MODIFIED:20260106T170217Z
UID:10000130-1781722800-1781728200@neurodiversityuk.co.uk
SUMMARY:ADHD Access To Work Support Group
DESCRIPTION:Feeling Overwhelmed by Access to Work?\nNavigating the Access to Work scheme can be daunting—but you’re not alone! Our support group provides valuable advice\, peer support\, and information on securing funding for ADHD coaching\, support workers\, and equipment. \nMonthly Meetings\nOur group meets every 3rd Wednesday of the month\, 7:00 PM to 8:30 PM via Zoom. This is a safe space to connect with others\, swap tips\, and gain insights from a community that understands your experience. \nWhat We Offer\nWhether you need help with applying for Access to Work\, reclaiming costs\, or managing the scheme’s administration\, we’re here to support you every step of the way. \nStay Connected\nFor more details\, join our Facebook group for peer discussions\, or contact us at info@neurodiversityuk.co.uk. \n  \n 
URL:https://neurodiversityuk.co.uk/event/adhd-access-to-work-support-group-12/
CATEGORIES:Access To Work Support Group,Neurodiversity UK Event,Online Events
ATTACH;FMTTYPE=image/png:https://neurodiversityuk.co.uk/wp-content/uploads/2025/07/NEW-Access-to-work-banner.png
ORGANIZER;CN="Neurodiversity UK":MAILTO:info@neurodiversityuk.co.uk
LOCATION:https://neurodiversityuk.co.uk/event/adhd-access-to-work-support-group-12/
END:VEVENT
END:VCALENDAR