BEGIN:VCALENDAR
VERSION:2.0
PRODID:-//Neurodiversity UK - ECPv6.15.18//NONSGML v1.0//EN
CALSCALE:GREGORIAN
METHOD:PUBLISH
X-WR-CALNAME:Neurodiversity UK
X-ORIGINAL-URL:https://neurodiversityuk.co.uk
X-WR-CALDESC:Events for Neurodiversity UK
REFRESH-INTERVAL;VALUE=DURATION:PT1H
X-Robots-Tag:noindex
X-PUBLISHED-TTL:PT1H
BEGIN:VTIMEZONE
TZID:Europe/London
BEGIN:DAYLIGHT
TZOFFSETFROM:+0000
TZOFFSETTO:+0100
TZNAME:BST
DTSTART:20230326T010000
END:DAYLIGHT
BEGIN:STANDARD
TZOFFSETFROM:+0100
TZOFFSETTO:+0000
TZNAME:GMT
DTSTART:20231029T010000
END:STANDARD
BEGIN:DAYLIGHT
TZOFFSETFROM:+0000
TZOFFSETTO:+0100
TZNAME:BST
DTSTART:20240331T010000
END:DAYLIGHT
BEGIN:STANDARD
TZOFFSETFROM:+0100
TZOFFSETTO:+0000
TZNAME:GMT
DTSTART:20241027T010000
END:STANDARD
BEGIN:DAYLIGHT
TZOFFSETFROM:+0000
TZOFFSETTO:+0100
TZNAME:BST
DTSTART:20250330T010000
END:DAYLIGHT
BEGIN:STANDARD
TZOFFSETFROM:+0100
TZOFFSETTO:+0000
TZNAME:GMT
DTSTART:20251026T010000
END:STANDARD
END:VTIMEZONE
BEGIN:VEVENT
DTSTART;TZID=Europe/London:20240815T190000
DTEND;TZID=Europe/London:20240815T230000
DTSTAMP:20260423T001050
CREATED:20240802T223349Z
LAST-MODIFIED:20240803T155634Z
UID:10000006-1723748400-1723762800@neurodiversityuk.co.uk
SUMMARY:ADHD The Experience 3
DESCRIPTION:Join us for “ADHD The Experience 3” – the must-attend neurodiversity event of the year! This special night takes place on Thursday\, August 15th\, 2024\, at 7 PM at The Brunswick\, Hove. Enjoy an evening where comedy\, public speaking\, poetry\, storytelling\, and drag merge in a unique celebration of neurodiversity. \nDesigned by and for neurodivergent individuals\, this event provides a one-of-a-kind space to connect without barriers\, where you can be yourself and enjoy a lineup filled with top-notch performers including comedians J-Dog\, Oro Rose\, and Danielle Cooper; poet Anna Free; and speakers Mark Blake and Lisa Kerr\, all topped off with a headline performance by Felix Le Freak. \nHosted by Suzi Payton\, renowned ADHD coach and comedian\, alongside her alter ego Polly Parton\, this event promises not only laughter but also deep insights into the neurodivergent experience. \nTickets are £12 plus a booking fee\, with 10 bursary tickets available for those in need. Previous events sold out quickly\, so secure your spot early to avoid disappointment. Doors open at 7 PM\, with the show starting promptly at 7:30 PM. \nClick here to buy tickets and be part of a vibrant\, inclusive community celebration of neurodiversity!
URL:https://neurodiversityuk.co.uk/event/adhd-the-experience-3/
LOCATION:The Brunswick\, 1 Holland Road\, Hove\, East Sussex\, BN3 1JF\, United Kingdom
CATEGORIES:Community Event,In Person Events
ATTACH;FMTTYPE=image/webp:https://neurodiversityuk.co.uk/wp-content/uploads/2024/08/adhd-experience-3.webp
ORGANIZER;CN="Suzi Payton":MAILTO:info@suzipayton.co.uk
END:VEVENT
END:VCALENDAR