BEGIN:VCALENDAR
VERSION:2.0
PRODID:-//Neurodiversity UK - ECPv6.15.18//NONSGML v1.0//EN
CALSCALE:GREGORIAN
METHOD:PUBLISH
X-ORIGINAL-URL:https://neurodiversityuk.co.uk
X-WR-CALDESC:Events for Neurodiversity UK
REFRESH-INTERVAL;VALUE=DURATION:PT1H
X-Robots-Tag:noindex
X-PUBLISHED-TTL:PT1H
BEGIN:VTIMEZONE
TZID:Europe/London
BEGIN:DAYLIGHT
TZOFFSETFROM:+0000
TZOFFSETTO:+0100
TZNAME:BST
DTSTART:20240331T010000
END:DAYLIGHT
BEGIN:STANDARD
TZOFFSETFROM:+0100
TZOFFSETTO:+0000
TZNAME:GMT
DTSTART:20241027T010000
END:STANDARD
BEGIN:DAYLIGHT
TZOFFSETFROM:+0000
TZOFFSETTO:+0100
TZNAME:BST
DTSTART:20250330T010000
END:DAYLIGHT
BEGIN:STANDARD
TZOFFSETFROM:+0100
TZOFFSETTO:+0000
TZNAME:GMT
DTSTART:20251026T010000
END:STANDARD
BEGIN:DAYLIGHT
TZOFFSETFROM:+0000
TZOFFSETTO:+0100
TZNAME:BST
DTSTART:20260329T010000
END:DAYLIGHT
BEGIN:STANDARD
TZOFFSETFROM:+0100
TZOFFSETTO:+0000
TZNAME:GMT
DTSTART:20261025T010000
END:STANDARD
END:VTIMEZONE
BEGIN:VEVENT
DTSTART;TZID=Europe/London:20250607T190000
DTEND;TZID=Europe/London:20250607T230000
DTSTAMP:20260420T083328
CREATED:20250516T125856Z
LAST-MODIFIED:20250602T154406Z
UID:10000102-1749322800-1749337200@neurodiversityuk.co.uk
SUMMARY:Brighton ADHD Social
DESCRIPTION:Date & Time:  Saturday 7th June\, 7pm\nLocation: Lord Nelson\, 36 Trafalgar St\, Brighton and Hove\, Brighton BN1 4ED \nJoin us for a friendly and informal evening at Brighton ADHD Social\, a monthly social meetup for adults with ADHD or ADHD characteristics. It’s a great chance to chat\, connect\, and meet like-minded people in a relaxed setting. \nMeet us in the conservatory. \nFor updates and reminders\, join our Facebook Group or our WhatsApp Group \nHope to see you there!
URL:https://neurodiversityuk.co.uk/event/brighton-adhd-social/
LOCATION:Lord Nelson\, 36 Trafalgar Street\, Brighton\, BN1 4ED\, United Kingdom
CATEGORIES:Brighton Events,Brighton Events,Community Event,In Person Events,Social
ATTACH;FMTTYPE=image/jpeg:https://neurodiversityuk.co.uk/wp-content/uploads/2025/05/New-Brighton-ADHD-Social.jpg
END:VEVENT
BEGIN:VEVENT
DTSTART;TZID=Europe/London:20250618T190000
DTEND;TZID=Europe/London:20250618T203000
DTSTAMP:20260420T083328
CREATED:20250328T105704Z
LAST-MODIFIED:20250602T155155Z
UID:10000094-1750273200-1750278600@neurodiversityuk.co.uk
SUMMARY:Neurodivergent Access To Work Support Group
DESCRIPTION:Feeling Overwhelmed by Access to Work?\nNavigating the Access to Work scheme can be daunting—but you’re not alone! Our support group provides valuable advice\, peer support\, and information on securing funding for ADHD coaching\, support workers\, and equipment. \nMonthly Meetings\nOur group meets every 3rd Wednesday of the month\, 7:00 PM to 8:30 PM via Zoom. This is a safe space to connect with others\, swap tips\, and gain insights from a community that understands your experience. \nWhat We Offer\nWhether you need help with applying for Access to Work\, reclaiming costs\, or managing the scheme’s administration\, we’re here to support you every step of the way. \nStay Connected\nFor more details\, join our Facebook group for peer discussions\, or contact us at info@neurodiversityuk.co.uk. \n  \n 
URL:https://neurodiversityuk.co.uk/event/adhd-autism-access-to-work-support-group-4/
CATEGORIES:Access To Work Support Group,Neurodiversity UK Event,Online Events
ATTACH;FMTTYPE=image/webp:https://neurodiversityuk.co.uk/wp-content/uploads/2024/12/Access-to-work-banner.webp
LOCATION:https://neurodiversityuk.co.uk/event/adhd-autism-access-to-work-support-group-4/
END:VEVENT
BEGIN:VEVENT
DTSTART;TZID=Europe/London:20250626T190000
DTEND;TZID=Europe/London:20250626T210000
DTSTAMP:20260420T083328
CREATED:20250326T132445Z
LAST-MODIFIED:20250326T132445Z
UID:10000062-1750964400-1750971600@neurodiversityuk.co.uk
SUMMARY:Neurodivergent Men's Support Group
DESCRIPTION:An informal meeting for Men who also identify as having ADHD and/or Neurodivergence. \nThis is an inclusive space\, welcoming cis men\, trans men\, and non-binary individuals who identify with the experience of being a man or navigating male-related challenges and issues. \nThis is an opportunity to feel understood\, share experiences\, hear others’ stories\, explore strategies together\, reduce any feelings of isolation.\nIn future\, we may also pick a topic to help attendees deal with the unique issues and challenges that Neurodiverse Men face in the modern world! \nWe’ve also created a dedicated Facebook group for ongoing peer support. \nIf you have any problems with tickets or connecting with zoom please email us at info@neurodiversityuk.co.uk. \n 
URL:https://neurodiversityuk.co.uk/event/neurodivergent-mens-support-group-6/
CATEGORIES:Men's Neurodivergent Support Group,Neurodiversity UK Event,Online Events
ATTACH;FMTTYPE=image/png:https://neurodiversityuk.co.uk/wp-content/uploads/2024/09/Neurodivergent-Mens-Peer-Support-Group.png
ORGANIZER;CN="Neurodiversity UK":MAILTO:info@neurodiversityuk.co.uk
LOCATION:https://neurodiversityuk.co.uk/event/neurodivergent-mens-support-group-6/
END:VEVENT
END:VCALENDAR