BEGIN:VCALENDAR
VERSION:2.0
PRODID:-//Neurodiversity UK - ECPv6.15.18//NONSGML v1.0//EN
CALSCALE:GREGORIAN
METHOD:PUBLISH
X-ORIGINAL-URL:https://neurodiversityuk.co.uk
X-WR-CALDESC:Events for Neurodiversity UK
REFRESH-INTERVAL;VALUE=DURATION:PT1H
X-Robots-Tag:noindex
X-PUBLISHED-TTL:PT1H
BEGIN:VTIMEZONE
TZID:Europe/London
BEGIN:DAYLIGHT
TZOFFSETFROM:+0000
TZOFFSETTO:+0100
TZNAME:BST
DTSTART:20240331T010000
END:DAYLIGHT
BEGIN:STANDARD
TZOFFSETFROM:+0100
TZOFFSETTO:+0000
TZNAME:GMT
DTSTART:20241027T010000
END:STANDARD
BEGIN:DAYLIGHT
TZOFFSETFROM:+0000
TZOFFSETTO:+0100
TZNAME:BST
DTSTART:20250330T010000
END:DAYLIGHT
BEGIN:STANDARD
TZOFFSETFROM:+0100
TZOFFSETTO:+0000
TZNAME:GMT
DTSTART:20251026T010000
END:STANDARD
BEGIN:DAYLIGHT
TZOFFSETFROM:+0000
TZOFFSETTO:+0100
TZNAME:BST
DTSTART:20260329T010000
END:DAYLIGHT
BEGIN:STANDARD
TZOFFSETFROM:+0100
TZOFFSETTO:+0000
TZNAME:GMT
DTSTART:20261025T010000
END:STANDARD
END:VTIMEZONE
BEGIN:VEVENT
DTSTART;TZID=Europe/London:20250817T180000
DTEND;TZID=Europe/London:20250817T210000
DTSTAMP:20260416T052234
CREATED:20250724T144206Z
LAST-MODIFIED:20250724T183016Z
UID:10000112-1755453600-1755464400@neurodiversityuk.co.uk
SUMMARY:Daisy Dating – Neurodivergent Friendly Dating Event
DESCRIPTION:🌼Kinder Dating for neurodivergent adults who want to date differently  \n🌼Light-hearted\, meaningful and fun activities \n🌼Warm\, Respectful & Relaxed Atmosphere \n🌼   Designed with RSD\, anxiety & social fatigue in mind \n🌼 Created by and for neurodivergents \n  \n📍 Location: \nThe Lady Ottoline\, 11A Northington St\, London WC1N 2JF \n(Please note: the event space is upstairs and not wheelchair accessible.) \n🗓 Dates: \n– Sunday 17 August | 6–9pm \n🎟 Tickets:  \n£25 / £20 concession (includes a welcome drink) \n📲 Tickets via Eventbrite – limited spaces! See Links above \nThis night is for opposite-gender connections. LGBTQIA+ events coming soon! \n  \nBook here
URL:https://neurodiversityuk.co.uk/event/daisy-dating-neurodivergent-friendly-dating-event/
LOCATION:The Lady Ottoline\, 11a Northington Street\, London\, WC1 2JF\, United Kingdom
CATEGORIES:Community Event,In Person Events,Social
ATTACH;FMTTYPE=image/jpeg:https://neurodiversityuk.co.uk/wp-content/uploads/2025/07/Daisy-flyer-1.jpg
END:VEVENT
BEGIN:VEVENT
DTSTART;TZID=Europe/London:20250820T190000
DTEND;TZID=Europe/London:20250820T203000
DTSTAMP:20260416T052234
CREATED:20250724T183303Z
LAST-MODIFIED:20250728T161810Z
UID:10000113-1755716400-1755721800@neurodiversityuk.co.uk
SUMMARY:ADHD Access To Work Support Group
DESCRIPTION:Feeling Overwhelmed by Access to Work?\nNavigating the Access to Work scheme can be daunting—but you’re not alone! Our support group provides valuable advice\, peer support\, and information on securing funding for ADHD coaching\, support workers\, and equipment. \nMonthly Meetings\nOur group meets every 3rd Wednesday of the month\, 7:00 PM to 8:30 PM via Zoom. This is a safe space to connect with others\, swap tips\, and gain insights from a community that understands your experience. \nWhat We Offer\nWhether you need help with applying for Access to Work\, reclaiming costs\, or managing the scheme’s administration\, we’re here to support you every step of the way. \nStay Connected\nFor more details\, join our Facebook group for peer discussions\, or contact us at info@neurodiversityuk.co.uk. \n  \n 
URL:https://neurodiversityuk.co.uk/event/adhd-access-to-work-support-group-2/
CATEGORIES:Access To Work Support Group,Neurodiversity UK Event,Online Events
ORGANIZER;CN="Neurodiversity UK":MAILTO:info@neurodiversityuk.co.uk
LOCATION:https://neurodiversityuk.co.uk/event/adhd-access-to-work-support-group-2/
END:VEVENT
BEGIN:VEVENT
DTSTART;TZID=Europe/London:20250828T190000
DTEND;TZID=Europe/London:20250828T210000
DTSTAMP:20260416T052234
CREATED:20250728T162106Z
LAST-MODIFIED:20250728T162106Z
UID:10000115-1756407600-1756414800@neurodiversityuk.co.uk
SUMMARY:Neurodivergent Men's Support Group
DESCRIPTION:An informal meeting for Men who also identify as having ADHD and/or Neurodivergence. \nThis is an inclusive space\, welcoming cis men\, trans men\, and non-binary individuals who identify with the experience of being a man or navigating male-related challenges and issues. \nThis is an opportunity to feel understood\, share experiences\, hear others’ stories\, explore strategies together\, reduce any feelings of isolation.\nIn future\, we may also pick a topic to help attendees deal with the unique issues and challenges that Neurodiverse Men face in the modern world! \nWe’ve also created a dedicated Facebook group for ongoing peer support. \nIf you have any problems with tickets or connecting with zoom please email us at info@neurodiversityuk.co.uk. \n 
URL:https://neurodiversityuk.co.uk/event/neurodivergent-mens-support-group-7/
CATEGORIES:Men's Neurodivergent Support Group,Neurodiversity UK Event,Online Events
ATTACH;FMTTYPE=image/png:https://neurodiversityuk.co.uk/wp-content/uploads/2024/09/Neurodivergent-Mens-Peer-Support-Group.png
ORGANIZER;CN="Neurodiversity UK":MAILTO:info@neurodiversityuk.co.uk
LOCATION:https://neurodiversityuk.co.uk/event/neurodivergent-mens-support-group-7/
END:VEVENT
END:VCALENDAR