BEGIN:VCALENDAR
VERSION:2.0
PRODID:-//Neurodiversity UK - ECPv6.15.18//NONSGML v1.0//EN
CALSCALE:GREGORIAN
METHOD:PUBLISH
X-WR-CALNAME:Neurodiversity UK
X-ORIGINAL-URL:https://neurodiversityuk.co.uk
X-WR-CALDESC:Events for Neurodiversity UK
REFRESH-INTERVAL;VALUE=DURATION:PT1H
X-Robots-Tag:noindex
X-PUBLISHED-TTL:PT1H
BEGIN:VTIMEZONE
TZID:Europe/London
BEGIN:DAYLIGHT
TZOFFSETFROM:+0000
TZOFFSETTO:+0100
TZNAME:BST
DTSTART:20240331T010000
END:DAYLIGHT
BEGIN:STANDARD
TZOFFSETFROM:+0100
TZOFFSETTO:+0000
TZNAME:GMT
DTSTART:20241027T010000
END:STANDARD
BEGIN:DAYLIGHT
TZOFFSETFROM:+0000
TZOFFSETTO:+0100
TZNAME:BST
DTSTART:20250330T010000
END:DAYLIGHT
BEGIN:STANDARD
TZOFFSETFROM:+0100
TZOFFSETTO:+0000
TZNAME:GMT
DTSTART:20251026T010000
END:STANDARD
BEGIN:DAYLIGHT
TZOFFSETFROM:+0000
TZOFFSETTO:+0100
TZNAME:BST
DTSTART:20260329T010000
END:DAYLIGHT
BEGIN:STANDARD
TZOFFSETFROM:+0100
TZOFFSETTO:+0000
TZNAME:GMT
DTSTART:20261025T010000
END:STANDARD
END:VTIMEZONE
BEGIN:VEVENT
DTSTART;TZID=Europe/London:20251015T190000
DTEND;TZID=Europe/London:20251015T203000
DTSTAMP:20260420T010540
CREATED:20250729T144644Z
LAST-MODIFIED:20250729T144644Z
UID:10000117-1760554800-1760560200@neurodiversityuk.co.uk
SUMMARY:ADHD Access To Work Support Group
DESCRIPTION:Feeling Overwhelmed by Access to Work?\nNavigating the Access to Work scheme can be daunting—but you’re not alone! Our support group provides valuable advice\, peer support\, and information on securing funding for ADHD coaching\, support workers\, and equipment. \nMonthly Meetings\nOur group meets every 3rd Wednesday of the month\, 7:00 PM to 8:30 PM via Zoom. This is a safe space to connect with others\, swap tips\, and gain insights from a community that understands your experience. \nWhat We Offer\nWhether you need help with applying for Access to Work\, reclaiming costs\, or managing the scheme’s administration\, we’re here to support you every step of the way. \nStay Connected\nFor more details\, join our Facebook group for peer discussions\, or contact us at info@neurodiversityuk.co.uk. \n  \n 
URL:https://neurodiversityuk.co.uk/event/adhd-access-to-work-support-group-4/
CATEGORIES:Access To Work Support Group,Neurodiversity UK Event,Online Events
ATTACH;FMTTYPE=image/png:https://neurodiversityuk.co.uk/wp-content/uploads/2025/07/NEW-Access-to-work-banner.png
ORGANIZER;CN="Neurodiversity UK":MAILTO:info@neurodiversityuk.co.uk
LOCATION:https://neurodiversityuk.co.uk/event/adhd-access-to-work-support-group-4/
END:VEVENT
BEGIN:VEVENT
DTSTART;TZID=Europe/London:20251018T133000
DTEND;TZID=Europe/London:20251018T173000
DTSTAMP:20260420T010540
CREATED:20250925T104742Z
LAST-MODIFIED:20250925T104742Z
UID:10000120-1760794200-1760808600@neurodiversityuk.co.uk
SUMMARY:Daisy Connections: Presents Friendships & Sparks
DESCRIPTION:Daisy Connections presents a fun\, neuroinclusive London social: a new way to  meet new friends or potential partners. No awkward rejection or small talk.\n\nDaisy is now at a bigger and better venue!\n\n\nEarly bird £20  tickets : https://DaisyConnections.eventbrite.com \nLimited discount tickets: Use code SQUIRRELS for 25% off \n 
URL:https://neurodiversityuk.co.uk/event/daisy-connections-presents-friendships-sparks/
LOCATION:The Chapel Bar\, 29 Penton Street\, Londond\, N1 9PX\, United Kingdom
CATEGORIES:Community Event,In Person Events,Social
ATTACH;FMTTYPE=image/png:https://neurodiversityuk.co.uk/wp-content/uploads/2025/09/1-daisy.png
END:VEVENT
BEGIN:VEVENT
DTSTART;TZID=Europe/London:20251030T190000
DTEND;TZID=Europe/London:20251030T210000
DTSTAMP:20260420T010540
CREATED:20251020T100903Z
LAST-MODIFIED:20251020T100903Z
UID:10000121-1761850800-1761858000@neurodiversityuk.co.uk
SUMMARY:Games Themed Speed Dating
DESCRIPTION:This is a speed dating event with a neurodiverse-friendly twist! You’ll connect via game play. Perfect for individuals who appreciate structured social interaction and the natural conversation starters that games provide. \n\nOur experienced host will welcome you at 7pm\, giving you time to settle in with a drink from the bar before we begin. The format is designed to reduce social anxiety while maximising fun and genuine connections. \n\n\nParticipants will be thoughtfully paired and seated at tables featuring carefully selected games. Each game is chosen to last approximately 5 minutes – perfect for breaking the ice without overwhelming anyone. We’ve curated a mix of classic and contemporary games that encourage natural conversation and showcase different thinking styles.\nCome ready to play\, laugh\, and potentially find your perfect player two in an environment that truly gets you!\n\n\nWho This Event Is For \nThis event welcomes adults 20s-40s years who identify as neurodiverse\, including those with autism\, ADHD\, social anxiety\, and other neurodivergent experiences. \nTickets \nPrice: £10 for Men | £5 for Women \n\nEvent participation\nOne complimentary non-alcoholic drink\nFollow-up on mutual matches\n\n\n\nAbout Shyne:\n\nThe mission of Shynne is to create safe and inclusive programs for children and young adults living with autism and ADHD\, providing them with regular opportunities to integrate\, interact\, build confidence\, exercise their minds and have fun.\nThis will be achieved through social events such as arts and crafts workshops\, gaming events\, graphic design training\, cooking classes speed dating and other networking events.
URL:https://neurodiversityuk.co.uk/event/games-themed-speed-dating/
LOCATION:Builders Arms\, 3 Albert Road\, Barnet\, London\, EN4 9SH
CATEGORIES:Community Event,In Person Events,Social
ATTACH;FMTTYPE=image/jpeg:https://neurodiversityuk.co.uk/wp-content/uploads/2025/10/Games-Themed-Speed-dating.jpg
END:VEVENT
END:VCALENDAR