BEGIN:VCALENDAR
VERSION:2.0
PRODID:-//Neurodiversity UK - ECPv6.15.18//NONSGML v1.0//EN
CALSCALE:GREGORIAN
METHOD:PUBLISH
X-WR-CALNAME:Neurodiversity UK
X-ORIGINAL-URL:https://neurodiversityuk.co.uk
X-WR-CALDESC:Events for Neurodiversity UK
REFRESH-INTERVAL;VALUE=DURATION:PT1H
X-Robots-Tag:noindex
X-PUBLISHED-TTL:PT1H
BEGIN:VTIMEZONE
TZID:Europe/London
BEGIN:DAYLIGHT
TZOFFSETFROM:+0000
TZOFFSETTO:+0100
TZNAME:BST
DTSTART:20240331T010000
END:DAYLIGHT
BEGIN:STANDARD
TZOFFSETFROM:+0100
TZOFFSETTO:+0000
TZNAME:GMT
DTSTART:20241027T010000
END:STANDARD
BEGIN:DAYLIGHT
TZOFFSETFROM:+0000
TZOFFSETTO:+0100
TZNAME:BST
DTSTART:20250330T010000
END:DAYLIGHT
BEGIN:STANDARD
TZOFFSETFROM:+0100
TZOFFSETTO:+0000
TZNAME:GMT
DTSTART:20251026T010000
END:STANDARD
BEGIN:DAYLIGHT
TZOFFSETFROM:+0000
TZOFFSETTO:+0100
TZNAME:BST
DTSTART:20260329T010000
END:DAYLIGHT
BEGIN:STANDARD
TZOFFSETFROM:+0100
TZOFFSETTO:+0000
TZNAME:GMT
DTSTART:20261025T010000
END:STANDARD
END:VTIMEZONE
BEGIN:VEVENT
DTSTART;TZID=Europe/London:20251116T150000
DTEND;TZID=Europe/London:20251116T170000
DTSTAMP:20260419T231406
CREATED:20251022T102740Z
LAST-MODIFIED:20251022T102740Z
UID:10000123-1763305200-1763312400@neurodiversityuk.co.uk
SUMMARY:Imagine Series
DESCRIPTION:Join us for a relaxed\, multi-sensory concert experience. This concert is part of our Imagine Series: a series of afternoon concerts at Wigmore Hall designed for a neurodiverse audience. \nRihab Azar is a London-based\, Syrian/British oud player. Performing internationally since 2008\, in 2014 she became the first woman oudist to perform accompanied by the Syrian National Orchestra for Arabic Music and in 2016 Arts Council England recognised her as a musician of ‘Exceptional Promise’. \nRihab will perform music without sudden or loud volume in this informal concert. She’ll introduce each piece and share some stories and facts about the music along the way. \nLow stimulus performances may benefit some neurodivergent people and all those who prefer a quieter environment. \n  \nTickets: £5.00
URL:https://neurodiversityuk.co.uk/event/imagine-series/
LOCATION:Wigmore Hall\, 36 Wigmore Street\, London\, W1U 2BP\, United Kingdom
CATEGORIES:Community Event,In Person Events,Social
END:VEVENT
BEGIN:VEVENT
DTSTART;TZID=Europe/London:20251119T190000
DTEND;TZID=Europe/London:20251119T203000
DTSTAMP:20260419T231406
CREATED:20250729T144812Z
LAST-MODIFIED:20251031T202538Z
UID:10000118-1763578800-1763584200@neurodiversityuk.co.uk
SUMMARY:ADHD Access To Work Support Group
DESCRIPTION:Feeling Overwhelmed by Access to Work?\nNavigating the Access to Work scheme can be daunting—but you’re not alone! Our support group provides valuable advice\, peer support\, and information on securing funding for ADHD coaching\, support workers\, and equipment. \nMonthly Meetings\nOur group meets every 3rd Wednesday of the month\, 7:00 PM to 8:30 PM via Zoom. This is a safe space to connect with others\, swap tips\, and gain insights from a community that understands your experience. \nWhat We Offer\nWhether you need help with applying for Access to Work\, reclaiming costs\, or managing the scheme’s administration\, we’re here to support you every step of the way. \nStay Connected\nFor more details\, join our Facebook group for peer discussions\, or contact us at info@neurodiversityuk.co.uk. \n  \n 
URL:https://neurodiversityuk.co.uk/event/adhd-access-to-work-support-group-5/
CATEGORIES:Access To Work Support Group,Neurodiversity UK Event,Online Events
ATTACH;FMTTYPE=image/png:https://neurodiversityuk.co.uk/wp-content/uploads/2025/07/NEW-Access-to-work-banner.png
ORGANIZER;CN="Neurodiversity UK":MAILTO:info@neurodiversityuk.co.uk
LOCATION:https://neurodiversityuk.co.uk/event/adhd-access-to-work-support-group-5/
END:VEVENT
BEGIN:VEVENT
DTSTART;TZID=Europe/London:20251121T180000
DTEND;TZID=Europe/London:20251121T210000
DTSTAMP:20260419T231406
CREATED:20251022T092423Z
LAST-MODIFIED:20251022T092423Z
UID:10000122-1763748000-1763758800@neurodiversityuk.co.uk
SUMMARY:Unmasked Poetry Open Mic
DESCRIPTION:✨Neuroinclusive Environment:✨\n\n• No flashing or bright lights\n• Stimming welcome\n• Clear breaks &\n• Quiet space\n• Discreet fidgets\n• Ok to leave between\navailable performances\n\nTickets: £5 General | £3 Performer
URL:https://neurodiversityuk.co.uk/event/unmasked-poetry-open-mic/
LOCATION:The Lady Ottoline\, 11a Northington Street\, London\, WC1 2JF\, United Kingdom
CATEGORIES:Community Event,In Person Events,Social
ATTACH;FMTTYPE=image/jpeg:https://neurodiversityuk.co.uk/wp-content/uploads/2025/10/IMG_4301.jpeg
END:VEVENT
END:VCALENDAR